BEGIN:VCALENDAR
VERSION:2.0
PRODID:Linklings LLC
BEGIN:VTIMEZONE
TZID:Europe/Stockholm
X-LIC-LOCATION:Europe/Stockholm
BEGIN:DAYLIGHT
TZOFFSETFROM:+0100
TZOFFSETTO:+0200
TZNAME:CEST
DTSTART:19700308T020000
RRULE:FREQ=YEARLY;BYMONTH=3;BYDAY=-1SU
END:DAYLIGHT
BEGIN:STANDARD
TZOFFSETFROM:+0200
TZOFFSETTO:+0100
TZNAME:CET
DTSTART:19701101T020000
RRULE:FREQ=YEARLY;BYMONTH=10;BYDAY=-1SU
END:STANDARD
END:VTIMEZONE
BEGIN:VEVENT
DTSTAMP:20230831T095747Z
LOCATION:Wisshorn
DTSTART;TZID=Europe/Stockholm:20230628T150000
DTEND;TZID=Europe/Stockholm:20230628T153000
UID:submissions.pasc-conference.org_PASC23_sess166_msa201@linklings.com
SUMMARY:New Challenges for ESiWACE3: The Center of Excellence in Simulatio
 ns of Weather and Climate in Europe
DESCRIPTION:Minisymposium\n\nStella Valentina Paronuzzi Ticco, Mario Acost
 a, and Francisco Doblas-reyes (Barcelona Supercomputing Center)\n\nExtreme
  weather events caused over 500 thousand casualties and 2 trillion USD eco
 nomic damages in the past 20 years: a failure in climate change mitigation
  is ranked among the leading threats to global society. For these reasons,
  the improvement of the Earth System Models (ESM) has become a critical go
 al in recent years. Since 2015 the ESiWACE Center of Excellence (CoE) has 
 been pursuing this goal by pushing the resolution of global ESM to unprece
 dented levels. It involved partners with world leading scientific and tech
 nical expertise in weather and climate research, in high-performance compu
 ting and in project management and communication. During the firsts two ph
 ases of ESiWACE the ability to efficiently run ESM at ~1 Km resolution was
  established. The time has come to adjust the focus to support the weather
  and climate modeling community to reach a higher readiness regarding exas
 cale supercomputing and foster knowledge transfer between the different ce
 nters and teams across Europe. We will present how the third phase of the 
 ESiWACE CoE aims to generate synergies between local efforts developing co
 nnections that make it possible to provide support to groups via customize
 d high-performance computing services, and to provide efficient training t
 o educate next generations of researchers.\n\nDomain: Physics\n\nSession C
 hair: Marta Garcia-Gasulla (Barcelona Supercomputing Center)
END:VEVENT
END:VCALENDAR
