BEGIN:VCALENDAR
VERSION:2.0
PRODID:Linklings LLC
BEGIN:VTIMEZONE
TZID:Europe/Stockholm
X-LIC-LOCATION:Europe/Stockholm
BEGIN:DAYLIGHT
TZOFFSETFROM:+0100
TZOFFSETTO:+0200
TZNAME:CEST
DTSTART:19700308T020000
RRULE:FREQ=YEARLY;BYMONTH=3;BYDAY=-1SU
END:DAYLIGHT
BEGIN:STANDARD
TZOFFSETFROM:+0200
TZOFFSETTO:+0100
TZNAME:CET
DTSTART:19701101T020000
RRULE:FREQ=YEARLY;BYMONTH=10;BYDAY=-1SU
END:STANDARD
END:VTIMEZONE
BEGIN:VEVENT
DTSTAMP:20230831T095747Z
LOCATION:Wisshorn
DTSTART;TZID=Europe/Stockholm:20230628T140000
DTEND;TZID=Europe/Stockholm:20230628T143000
UID:submissions.pasc-conference.org_PASC23_sess166_msa161@linklings.com
SUMMARY:The ChEESE Methodology towards Exascale
DESCRIPTION:Minisymposium\n\nPiero Lanucara (CINECA)\n\nIn this talk, the 
 underline methodology of the WP2 of ChEESE Center of Excellence in Solid E
 arth (ChEESE)[1] will be presented, together with the way how WP2 actively
  supported the code audit, the development and tuning (ranging from single
  node to multi node, I/O) and porting activity (towards heterogeneous acce
 lerated architectures) of its ten flagship codes in order to boost their t
 ransition towards Exascale. Some relevant lesson learned will be sketch an
 d the relationship with the Performance Optimisation and Productivity Cent
 er of Excellence (POP)[2] will be highlighted. <br />[1] https://cheese-co
 e.eu/[2] https://pop-coe.eu/\n\nDomain: Physics\n\nSession Chair: Marta Ga
 rcia-Gasulla (Barcelona Supercomputing Center)
END:VEVENT
END:VCALENDAR
