BEGIN:VCALENDAR
VERSION:2.0
PRODID:Linklings LLC
BEGIN:VTIMEZONE
TZID:Europe/Stockholm
X-LIC-LOCATION:Europe/Stockholm
BEGIN:DAYLIGHT
TZOFFSETFROM:+0100
TZOFFSETTO:+0200
TZNAME:CEST
DTSTART:19700308T020000
RRULE:FREQ=YEARLY;BYMONTH=3;BYDAY=-1SU
END:DAYLIGHT
BEGIN:STANDARD
TZOFFSETFROM:+0200
TZOFFSETTO:+0100
TZNAME:CET
DTSTART:19701101T020000
RRULE:FREQ=YEARLY;BYMONTH=10;BYDAY=-1SU
END:STANDARD
END:VTIMEZONE
BEGIN:VEVENT
DTSTAMP:20230831T095745Z
LOCATION:Dischma
DTSTART;TZID=Europe/Stockholm:20230626T140000
DTEND;TZID=Europe/Stockholm:20230626T143000
UID:submissions.pasc-conference.org_PASC23_sess162_msa256@linklings.com
SUMMARY:A Scale Separation Approach: A Machine-Learned Surrogate Model for
  an Injector Coupled with Spray Simulations
DESCRIPTION:Minisymposium\n\nSudeepta Mondal, Gina M. Magnotti, Bethany Lu
 sch, Romit Maulik, and Roberto Torelli (Argonne National Laboratory)\n\nIn
  this work, we use machine learning to develop a surrogate model for an ex
 pensive portion of a computational fluid dynamics simulation. In particula
 r, we learn a surrogate model for fuel injection, predicting the flowfield
 s at the exit of an automotive injector. The output of the surrogate model
  is then the boundary conditions for reacting spray simulations. Static co
 upling between the injector flow and external spray via a spatiotemporal b
 oundary condition reduces the range of scales that need to be resolved for
  the spray domain. The surrogate model includes uncertainty quantification
  and is able to conserve the injected mass flow rate. The surrogate model 
 results in an O(10^6) speedup for predicting internal flow fields for a ne
 w test case, and an O(10) speedup for the full simulation.\n\nDomain: Comp
 uter Science, Machine Learning, and Applied Mathematics &#8232;\n\nSession Chair
 s: Timothy C Germann (Los Alamos National Laboratory) and Ramesh Balakrish
 nan (Argonne National Laboratory)
END:VEVENT
END:VCALENDAR
