BEGIN:VCALENDAR
VERSION:2.0
PRODID:Linklings LLC
BEGIN:VTIMEZONE
TZID:Europe/Stockholm
X-LIC-LOCATION:Europe/Stockholm
BEGIN:DAYLIGHT
TZOFFSETFROM:+0100
TZOFFSETTO:+0200
TZNAME:CEST
DTSTART:19700308T020000
RRULE:FREQ=YEARLY;BYMONTH=3;BYDAY=-1SU
END:DAYLIGHT
BEGIN:STANDARD
TZOFFSETFROM:+0200
TZOFFSETTO:+0100
TZNAME:CET
DTSTART:19701101T020000
RRULE:FREQ=YEARLY;BYMONTH=10;BYDAY=-1SU
END:STANDARD
END:VTIMEZONE
BEGIN:VEVENT
DTSTAMP:20230831T095745Z
LOCATION:Sanada II
DTSTART;TZID=Europe/Stockholm:20230626T153000
DTEND;TZID=Europe/Stockholm:20230626T160000
UID:submissions.pasc-conference.org_PASC23_sess158_msa275@linklings.com
SUMMARY:Scaling a Community with over 1,000 Contributors: Bringing Scienti
 sts Together with Spack
DESCRIPTION:Minisymposium\n\nHarmen Stoppels (Stoppels Consulting)\n\nThe 
 Spack package manager centralizes the community knowledge of scientific so
 ftware installations. Where traditionally cluster sysadmins maintain their
  own repository of deployment scripts, and developers use their own toolin
 g for local installations, Spack maintains a single, portable package repo
 sitory that is flexible enough to target any system, from notebook to supe
 rcomputer. It bridges the gap between developers and sysadmins, and encour
 ages collaboration across centers. Getting here is not without its challen
 ges, whether technical or social. To meet the demands of diverse user grou
 ps and guarantee strong performance, software builds should be sufficientl
 y customizable. At the same time, customizability should not translate int
 o overwhelming complexity for the user. Another challenge is growing a str
 ong contributor base to maintain packages, even when people come and go. A
 nd as the contributor base grows, there are new scaling issue to be addres
 sed: testing a few hundred packages is feasible, but how about 7'000? In t
 his talk we discuss these challenges and the lessons learned.\n\nDomain: C
 omputer Science, Machine Learning, and Applied Mathematics &#8232;\n\nSession Ch
 airs: Rinku Gupta (Argonne National Laboratory) and Elaine M. Raybourn (Sa
 ndia National Laboratories)
END:VEVENT
END:VCALENDAR
