BEGIN:VCALENDAR
VERSION:2.0
PRODID:Linklings LLC
BEGIN:VTIMEZONE
TZID:Europe/Stockholm
X-LIC-LOCATION:Europe/Stockholm
BEGIN:DAYLIGHT
TZOFFSETFROM:+0100
TZOFFSETTO:+0200
TZNAME:CEST
DTSTART:19700308T020000
RRULE:FREQ=YEARLY;BYMONTH=3;BYDAY=-1SU
END:DAYLIGHT
BEGIN:STANDARD
TZOFFSETFROM:+0200
TZOFFSETTO:+0100
TZNAME:CET
DTSTART:19701101T020000
RRULE:FREQ=YEARLY;BYMONTH=10;BYDAY=-1SU
END:STANDARD
END:VTIMEZONE
BEGIN:VEVENT
DTSTAMP:20230831T095745Z
LOCATION:Sanada II
DTSTART;TZID=Europe/Stockholm:20230626T150000
DTEND;TZID=Europe/Stockholm:20230626T153000
UID:submissions.pasc-conference.org_PASC23_sess158_msa238@linklings.com
SUMMARY:Developing Services for Scientific Communities: Experiences from t
 he National High Performance Computing Program in Germany
DESCRIPTION:Minisymposium\n\nThorsten Reimann and Christian Bischof (TU Da
 rmstadt)\n\nThe academic HPC landscape in Germany has become much more ser
 vice-oriented over the last decade. Based on the insight that scientists r
 equire more than purely technical support to successfully and efficiently 
 work on HPC clusters, state and federal programs have been instituted that
  provide consulting, training activities, and more. In particular, the lau
 nch of the initially 10-year National HPC project (Nationales Hochleistung
 srechnen, NHR) in 2021 has provided more opportunities to address the need
 s of researchers in a fashion targeted to their respective scientific comm
 unities, thus making these services more focussed and effective. However, 
 identifying and approaching different communities regarding HPC support, a
 nd finally providing the right services for them are not self-evident task
 s at all. We find these groups to be amorphous, heterogeneous, and often q
 uite inexplicit in their requirements. Using several communities in the co
 mputational engineering sciences as example, we reflect on measures that h
 ave and can be taken to facilitate the development of services for scienti
 fic communities in HPC. Examples for such measures are tailored events, co
 mmunication strategies and information offerings. We stress the importance
  of the continuity and sustainability of these efforts, and the availabili
 ty and training of a dedicated and service-oriented scientific staff.\n\nD
 omain: Computer Science, Machine Learning, and Applied Mathematics &#8232;\n\nSe
 ssion Chairs: Rinku Gupta (Argonne National Laboratory) and Elaine M. Rayb
 ourn (Sandia National Laboratories)
END:VEVENT
END:VCALENDAR
