BEGIN:VCALENDAR
VERSION:2.0
PRODID:Linklings LLC
BEGIN:VTIMEZONE
TZID:Europe/Stockholm
X-LIC-LOCATION:Europe/Stockholm
BEGIN:DAYLIGHT
TZOFFSETFROM:+0100
TZOFFSETTO:+0200
TZNAME:CEST
DTSTART:19700308T020000
RRULE:FREQ=YEARLY;BYMONTH=3;BYDAY=-1SU
END:DAYLIGHT
BEGIN:STANDARD
TZOFFSETFROM:+0200
TZOFFSETTO:+0100
TZNAME:CET
DTSTART:19701101T020000
RRULE:FREQ=YEARLY;BYMONTH=10;BYDAY=-1SU
END:STANDARD
END:VTIMEZONE
BEGIN:VEVENT
DTSTAMP:20230831T095747Z
LOCATION:Sanada II
DTSTART;TZID=Europe/Stockholm:20230628T153000
DTEND;TZID=Europe/Stockholm:20230628T160000
UID:submissions.pasc-conference.org_PASC23_sess152_msa105@linklings.com
SUMMARY:Panel Discussion
DESCRIPTION:Minisymposium\n\nMichael A. Heroux (Sandia National Laboratori
 es, St. John's University)\n\nDuring this final timeslot, we will invite s
 peakers to participate in a panel discussion. Questions and comments are w
 elcome from the audience.\n\nDomain: Applied Social Sciences and Humanitie
 s\n\nSession Chair: Michael A. Heroux (Sandia National Laboratories, St. J
 ohn's University)
END:VEVENT
END:VCALENDAR
