BEGIN:VCALENDAR
VERSION:2.0
PRODID:Linklings LLC
BEGIN:VTIMEZONE
TZID:Europe/Stockholm
X-LIC-LOCATION:Europe/Stockholm
BEGIN:DAYLIGHT
TZOFFSETFROM:+0100
TZOFFSETTO:+0200
TZNAME:CEST
DTSTART:19700308T020000
RRULE:FREQ=YEARLY;BYMONTH=3;BYDAY=-1SU
END:DAYLIGHT
BEGIN:STANDARD
TZOFFSETFROM:+0200
TZOFFSETTO:+0100
TZNAME:CET
DTSTART:19701101T020000
RRULE:FREQ=YEARLY;BYMONTH=10;BYDAY=-1SU
END:STANDARD
END:VTIMEZONE
BEGIN:VEVENT
DTSTAMP:20230831T095747Z
LOCATION:Sanada II
DTSTART;TZID=Europe/Stockholm:20230628T123000
DTEND;TZID=Europe/Stockholm:20230628T130000
UID:submissions.pasc-conference.org_PASC23_sess151_msa248@linklings.com
SUMMARY:How Human-Centered Tools and Processes can Improve Software Develo
 pment
DESCRIPTION:Minisymposium\n\nAxel Huebl (Lawrence Berkeley National Labora
 tory)\n\nModern software engineering in research is increasingly assisted 
 by a plethora of sophisticated development tools. In this presentation, we
  will take a look at typical tooling and automation processes. Motivated b
 y a human-centric approach for development, we will discuss selected chall
 enges and solutions for open teams in their interactions. On the technical
  side, will cover aspects of development for C++/Python, testing, review, 
 team coordination and support mechanisms.\n\nDomain: Applied Social Scienc
 es and Humanities\n\nSession Chair: Michael A. Heroux (Sandia National Lab
 oratories, St. John's University)
END:VEVENT
END:VCALENDAR
