BEGIN:VCALENDAR
VERSION:2.0
PRODID:Linklings LLC
BEGIN:VTIMEZONE
TZID:Europe/Stockholm
X-LIC-LOCATION:Europe/Stockholm
BEGIN:DAYLIGHT
TZOFFSETFROM:+0100
TZOFFSETTO:+0200
TZNAME:CEST
DTSTART:19700308T020000
RRULE:FREQ=YEARLY;BYMONTH=3;BYDAY=-1SU
END:DAYLIGHT
BEGIN:STANDARD
TZOFFSETFROM:+0200
TZOFFSETTO:+0100
TZNAME:CET
DTSTART:19701101T020000
RRULE:FREQ=YEARLY;BYMONTH=10;BYDAY=-1SU
END:STANDARD
END:VTIMEZONE
BEGIN:VEVENT
DTSTAMP:20230831T095745Z
LOCATION:Flüela
DTSTART;TZID=Europe/Stockholm:20230626T180000
DTEND;TZID=Europe/Stockholm:20230626T183000
UID:submissions.pasc-conference.org_PASC23_sess142_msa108@linklings.com
SUMMARY:General Discussion
DESCRIPTION:Minisymposium\n\nAnshu Dubey (Argonne National Laboratory, Uni
 versity of Chicago)\n\nThis presentation slot will be used to discuss the 
 merits of performance portability solutions presented in this mini-symposi
 um and how they stack up against more prevalent C++ solutions.\n\nDomain: 
 Computer Science, Machine Learning, and Applied Mathematics &#8232;\n\nSession C
 hair: Anshu Dubey (Argonne National Laboratory, University of Chicago)
END:VEVENT
END:VCALENDAR
