BEGIN:VCALENDAR
VERSION:2.0
PRODID:Linklings LLC
BEGIN:VTIMEZONE
TZID:Europe/Stockholm
X-LIC-LOCATION:Europe/Stockholm
BEGIN:DAYLIGHT
TZOFFSETFROM:+0100
TZOFFSETTO:+0200
TZNAME:CEST
DTSTART:19700308T020000
RRULE:FREQ=YEARLY;BYMONTH=3;BYDAY=-1SU
END:DAYLIGHT
BEGIN:STANDARD
TZOFFSETFROM:+0200
TZOFFSETTO:+0100
TZNAME:CET
DTSTART:19701101T020000
RRULE:FREQ=YEARLY;BYMONTH=10;BYDAY=-1SU
END:STANDARD
END:VTIMEZONE
BEGIN:VEVENT
DTSTAMP:20230831T095746Z
LOCATION:Sanada II
DTSTART;TZID=Europe/Stockholm:20230627T170000
DTEND;TZID=Europe/Stockholm:20230627T173000
UID:submissions.pasc-conference.org_PASC23_sess134_msa208@linklings.com
SUMMARY:EXCLAIM - The Multi-Dimensional Space of Project Coordination
DESCRIPTION:Minisymposium\n\nTamara Bandikova (ETH Zurich)\n\nEXCLAIM (Ext
 reme-scale computing and data platform for cloud-resolving weather and cli
 mate modeling) is an ETH Zurich project that aims to develop an ICON-model
 -based infrastructure that is capable of running kilometer-scale climate s
 imulations at both regional and global scales. With this talk, I invite yo
 u to look behind the scenes of the coordination of this multi-disciplinary
  and multi-institutional project. Without a doubt, the expert team builds 
 the core of EXCLAIM. But apart from the software engineers and the scienti
 sts, who or what else is playing an essential role in the project? Althoug
 h everybody agrees that communication is the key to success, why is it sti
 ll challenging to establish and maintain efficient communication channels?
  How do we navigate ICON model development in a continuously changing envi
 ronment? How do external factors such as the pandemic or the energy crisis
  affect our endeavor? From my position as the EXCLAIM project coordinator,
  I will show you our project from a different perspective.\n\nDomain: Comp
 uter Science, Machine Learning, and Applied Mathematics &#8232;\n\nSession Chair
 : Marie-Christine Sawley (ICES Foundation)
END:VEVENT
END:VCALENDAR
