BEGIN:VCALENDAR
VERSION:2.0
PRODID:Linklings LLC
BEGIN:VTIMEZONE
TZID:Europe/Stockholm
X-LIC-LOCATION:Europe/Stockholm
BEGIN:DAYLIGHT
TZOFFSETFROM:+0100
TZOFFSETTO:+0200
TZNAME:CEST
DTSTART:19700308T020000
RRULE:FREQ=YEARLY;BYMONTH=3;BYDAY=-1SU
END:DAYLIGHT
BEGIN:STANDARD
TZOFFSETFROM:+0200
TZOFFSETTO:+0100
TZNAME:CET
DTSTART:19701101T020000
RRULE:FREQ=YEARLY;BYMONTH=10;BYDAY=-1SU
END:STANDARD
END:VTIMEZONE
BEGIN:VEVENT
DTSTAMP:20230831T095755Z
LOCATION:Davos
DTSTART;TZID=Europe/Stockholm:20230628T173000
DTEND;TZID=Europe/Stockholm:20230628T175000
UID:submissions.pasc-conference.org_PASC23_sess130@linklings.com
SUMMARY:Closing Session and Awards
DESCRIPTION:Closing\n\nPresentation of PRACE HPC Excellence Award & of PRA
 CE Ada Lovelace Award for HPC\n\nPresentation of PASC23 Best Poster Award:
  Eleni Chatzi (ETH Zurich) and Michael Heroux (Sandia National Laboratorie
 s)\n\nPresentation of PASC23 Best Paper Award: Axel Huebl (Lawrence Berkel
 ey National Laboratory, US)\n\nPASC23 Closing Remarks: Eleni Chatzi (ETH Z
 urich) and Michael Heroux (Sandia National Laboratories)\n\nWelcome to PAS
 C24\n\n\n\nSession Chairs: Eleni Chatzi (ETH Zurich) and Michael A. Heroux
  (Sandia National Laboratories, St. John's University)
END:VEVENT
END:VCALENDAR
