BEGIN:VCALENDAR
VERSION:2.0
PRODID:Linklings LLC
BEGIN:VTIMEZONE
TZID:Europe/Stockholm
X-LIC-LOCATION:Europe/Stockholm
BEGIN:DAYLIGHT
TZOFFSETFROM:+0100
TZOFFSETTO:+0200
TZNAME:CEST
DTSTART:19700308T020000
RRULE:FREQ=YEARLY;BYMONTH=3;BYDAY=-1SU
END:DAYLIGHT
BEGIN:STANDARD
TZOFFSETFROM:+0200
TZOFFSETTO:+0100
TZNAME:CET
DTSTART:19701101T020000
RRULE:FREQ=YEARLY;BYMONTH=10;BYDAY=-1SU
END:STANDARD
END:VTIMEZONE
BEGIN:VEVENT
DTSTAMP:20230831T095755Z
LOCATION:Davos
DTSTART;TZID=Europe/Stockholm:20230628T163000
DTEND;TZID=Europe/Stockholm:20230628T173000
UID:submissions.pasc-conference.org_PASC23_sess127@linklings.com
SUMMARY:PD01 - Panel Discussion
DESCRIPTION:Panel\n\nPD01 - Better Together: How Can We Enhance Inter-Comm
 unity Collaboration?\n\nThis panel discussion will focus on the PASC23 the
 me: <em>Computing Across Scales, Domains, and Communities</em>. The panel 
 will discuss how to aggregate and synthesize distinct sources of technique
  and insight to improve the fidelity, effectiveness, efficiency, and usefu
 lness of scientific results ...\n\n\nEleni Chatzi (ETH Zurich), Mike Herou
 x (Sandia National Laboratories), Hannah Cohoon (University of Utah), Axel
  Huebl (Lawrence Berkeley National Laboratory), Neena Imam (NVIDIA Inc.), 
 and Simone Pezzuto (University of Trento)\n\nSession Chairs: Eleni Chatzi 
 (ETH Zurich) and Michael A. Heroux (Sandia National Laboratories, St. John
 's University)
END:VEVENT
END:VCALENDAR
