BEGIN:VCALENDAR
VERSION:2.0
PRODID:Linklings LLC
BEGIN:VTIMEZONE
TZID:Europe/Stockholm
X-LIC-LOCATION:Europe/Stockholm
BEGIN:DAYLIGHT
TZOFFSETFROM:+0100
TZOFFSETTO:+0200
TZNAME:CEST
DTSTART:19700308T020000
RRULE:FREQ=YEARLY;BYMONTH=3;BYDAY=-1SU
END:DAYLIGHT
BEGIN:STANDARD
TZOFFSETFROM:+0200
TZOFFSETTO:+0100
TZNAME:CET
DTSTART:19701101T020000
RRULE:FREQ=YEARLY;BYMONTH=10;BYDAY=-1SU
END:STANDARD
END:VTIMEZONE
BEGIN:VEVENT
DTSTAMP:20230831T095754Z
LOCATION:Davos
DTSTART;TZID=Europe/Stockholm:20230627T090000
DTEND;TZID=Europe/Stockholm:20230627T100000
UID:submissions.pasc-conference.org_PASC23_sess108@linklings.com
SUMMARY:ID01 - Flow Simulations Across Scales: From Atoms to Vortices
DESCRIPTION:Interdisciplinary Dialogue\n\nID01 - Flow Simulations across S
 cales: From Molecules to Vortices\n\nMost phenomena in fluid dynamics are 
 most naturally described by considering the fluid as a collection of parti
 cles: Lagrangian elements that carry the properties of the flow and whose 
 motion describes the evolution of the system. The discrete representations
  range from atomistic models of nano scal...\n\n\nJens Honore Walther and 
 Marina Krstic Marinkovic (ETH Zurich)\n\nSession Chair: Eleni Chatzi (ETH 
 Zurich)
END:VEVENT
END:VCALENDAR
