BEGIN:VCALENDAR
VERSION:2.0
PRODID:Linklings LLC
BEGIN:VTIMEZONE
TZID:Europe/Stockholm
X-LIC-LOCATION:Europe/Stockholm
BEGIN:DAYLIGHT
TZOFFSETFROM:+0100
TZOFFSETTO:+0200
TZNAME:CEST
DTSTART:19700308T020000
RRULE:FREQ=YEARLY;BYMONTH=3;BYDAY=-1SU
END:DAYLIGHT
BEGIN:STANDARD
TZOFFSETFROM:+0200
TZOFFSETTO:+0100
TZNAME:CET
DTSTART:19701101T020000
RRULE:FREQ=YEARLY;BYMONTH=10;BYDAY=-1SU
END:STANDARD
END:VTIMEZONE
BEGIN:VEVENT
DTSTAMP:20230831T095745Z
LOCATION:Davos
DTSTART;TZID=Europe/Stockholm:20230626T112000
DTEND;TZID=Europe/Stockholm:20230626T115000
UID:submissions.pasc-conference.org_PASC23_sess104_pos136@linklings.com
SUMMARY:P17 - Detecting Financial Fraud with Graph Neural Networks
DESCRIPTION:Poster\n\nJulien Schmidt, Dimosthenis Pasadakis, and Olaf Sche
 nk (Università della Svizzera italiana)\n\nDetecting financial fraud is a 
 challenging classification problem that entails the discovery of suspiciou
 s patterns in large-scale and time evolving data. Traditionally, financial
  institutions have been relying on rule-based methods to identify suspicio
 us accounts, with such approaches becoming ineffective as the volume of tr
 ansactions grows and criminal conduct gets more sophisticated. In this wor
 k, we capture in the form of directed graphs the interdependent nature of 
 monetary transactions, with their nodes representing the financial entitie
 s involved, and their edges describing details regarding the transactions.
  We consider this format in both static and dynamic graph structures which
  mimic a time evolving financial environment. Subsequently, deep learning 
 anomaly detection approaches are employed with the aim of separating fraud
 ulent and benign nodes using their historical data. We consider classifier
 s including Graph Convolutional Networks, Graph Attention Networks, and Lo
 ng-Short Term Memory Autoencoders and apply them on a wide range of artifi
 cial data that simulate the real-world behavior and complexity of monetary
  transactions. The accuracy and time-to-solution of our results highlight 
 the applicability of deep learning methods in problems encountered by the 
 financial industry.\n\nSession Chair: Elaine M. Raybourn (Sandia National 
 Laboratories)
END:VEVENT
END:VCALENDAR
