BEGIN:VCALENDAR
VERSION:2.0
PRODID:Linklings LLC
BEGIN:VTIMEZONE
TZID:Europe/Stockholm
X-LIC-LOCATION:Europe/Stockholm
BEGIN:DAYLIGHT
TZOFFSETFROM:+0100
TZOFFSETTO:+0200
TZNAME:CEST
DTSTART:19700308T020000
RRULE:FREQ=YEARLY;BYMONTH=3;BYDAY=-1SU
END:DAYLIGHT
BEGIN:STANDARD
TZOFFSETFROM:+0200
TZOFFSETTO:+0100
TZNAME:CET
DTSTART:19701101T020000
RRULE:FREQ=YEARLY;BYMONTH=10;BYDAY=-1SU
END:STANDARD
END:VTIMEZONE
BEGIN:VEVENT
DTSTAMP:20230831T095745Z
LOCATION:Davos
DTSTART;TZID=Europe/Stockholm:20230626T112000
DTEND;TZID=Europe/Stockholm:20230626T115000
UID:submissions.pasc-conference.org_PASC23_sess104_pos116@linklings.com
SUMMARY:P20 - Docker Container in DWD's Seamless INtegrated FOrecastiNg sY
 stem (SINFONY)
DESCRIPTION:Poster\n\nMatthias Zacharuk (DWD)\n\nAt Deutscher Wetterdienst
  (DWD), the SINFONY project has been set up to develop a seamless ensemble
  prediction system for convective-scale forecasting with forecast ranges o
 f up to 12 hours. It combines Nowcasting (NWC) techniques with numerical w
 eather prediction (NWP) in a seamless way. So far NWC and NWP run on two d
 ifferent IT-Infrastructure levels. Their combination requires a data trans
 fer between both infrastructures, which slows down SINFONY, increases comp
 lexity and is prone to disturbances. These disadvantages are solved by tra
 nsferring the interconnected part of the SINFONY on one single architectur
 e using Docker Container. With this aim in view Docker-Container of the re
 spective NWC components are created, whereby the Container-Image build pro
 cess is integrated to present CICD systems at DWD. For the application at 
 the assimilation cycle one Container is already implemented in DWD’s devel
 opment tool BACY. A major innovation of SINFONY is the rapid update cycle 
 (RUC), an hourly refreshing NWP procedure with a Forecast range of 8 hours
 . The container will be implemented to the RUC and used for the subsequent
  combination of NWP and NWC.\n\nSession Chair: Elaine M. Raybourn (Sandia 
 National Laboratories)
END:VEVENT
END:VCALENDAR
